BEGIN:VCALENDAR
VERSION:2.0
PRODID:-//Aschaffenburger BridgeClub e.V. - ECPv6.15.20//NONSGML v1.0//EN
CALSCALE:GREGORIAN
METHOD:PUBLISH
X-ORIGINAL-URL:https://aschaffenburger-bridge-club.de
X-WR-CALDESC:Veranstaltungen für Aschaffenburger BridgeClub e.V.
REFRESH-INTERVAL;VALUE=DURATION:PT1H
X-Robots-Tag:noindex
X-PUBLISHED-TTL:PT1H
BEGIN:VTIMEZONE
TZID:Europe/Berlin
BEGIN:DAYLIGHT
TZOFFSETFROM:+0100
TZOFFSETTO:+0200
TZNAME:CEST
DTSTART:20260329T010000
END:DAYLIGHT
BEGIN:STANDARD
TZOFFSETFROM:+0200
TZOFFSETTO:+0100
TZNAME:CET
DTSTART:20261025T010000
END:STANDARD
BEGIN:DAYLIGHT
TZOFFSETFROM:+0100
TZOFFSETTO:+0200
TZNAME:CEST
DTSTART:20270328T010000
END:DAYLIGHT
BEGIN:STANDARD
TZOFFSETFROM:+0200
TZOFFSETTO:+0100
TZNAME:CET
DTSTART:20271031T010000
END:STANDARD
BEGIN:DAYLIGHT
TZOFFSETFROM:+0100
TZOFFSETTO:+0200
TZNAME:CEST
DTSTART:20280326T010000
END:DAYLIGHT
BEGIN:STANDARD
TZOFFSETFROM:+0200
TZOFFSETTO:+0100
TZNAME:CET
DTSTART:20281029T010000
END:STANDARD
END:VTIMEZONE
BEGIN:VEVENT
DTSTART;TZID=Europe/Berlin:20270201T183000
DTEND;TZID=Europe/Berlin:20270201T183000
DTSTAMP:20260425T001617
CREATED:20230204T135315Z
LAST-MODIFIED:20231204T145631Z
UID:10001595-1801506600-1801506600@aschaffenburger-bridge-club.de
SUMMARY:Paarturnier 1. Montag Abend
DESCRIPTION:
URL:https://aschaffenburger-bridge-club.de/event/paarturnier-2-2/2027-02-01/
LOCATION:Aschaffenburger BridgeClub e.V.\, Jägerhof\, Darmstädtstr. 125\, Aschaffenburg\, 63741
END:VEVENT
BEGIN:VEVENT
DTSTART;TZID=Europe/Berlin:20270202T143000
DTEND;TZID=Europe/Berlin:20270202T170000
DTSTAMP:20260425T001617
CREATED:20231104T081040Z
LAST-MODIFIED:20240813T091014Z
UID:10002338-1801578600-1801587600@aschaffenburger-bridge-club.de
SUMMARY:TEAM Dienstag Mittag
DESCRIPTION:
URL:https://aschaffenburger-bridge-club.de/event/team-dienstag-mittag/2027-02-02/
LOCATION:Aschaffenburger BridgeClub e.V.\, Jägerhof\, Darmstädtstr. 125\, Aschaffenburg\, 63741
END:VEVENT
BEGIN:VEVENT
DTSTART;TZID=Europe/Berlin:20270205T143000
DTEND;TZID=Europe/Berlin:20270205T143000
DTSTAMP:20260425T001617
CREATED:20260419T141356Z
LAST-MODIFIED:20260419T141357Z
UID:10001496-1801837800-1801837800@aschaffenburger-bridge-club.de
SUMMARY:Paarturnier Freitag Mittag
DESCRIPTION:
URL:https://aschaffenburger-bridge-club.de/event/paarturnier-10-2-2-2/2027-02-05/
LOCATION:Aschaffenburger BridgeClub e.V.\, Jägerhof\, Darmstädtstr. 125\, Aschaffenburg\, 63741
END:VEVENT
BEGIN:VEVENT
DTSTART;TZID=Europe/Berlin:20270208T183000
DTEND;TZID=Europe/Berlin:20270208T210000
DTSTAMP:20260425T001617
CREATED:20260419T140950Z
LAST-MODIFIED:20260419T140951Z
UID:10002967-1802111400-1802120400@aschaffenburger-bridge-club.de
SUMMARY:Paarturnier 2. Montag Abend
DESCRIPTION:
URL:https://aschaffenburger-bridge-club.de/event/paarturnier-2-montag-abend-neu-2/2027-02-08/
LOCATION:Aschaffenburger BridgeClub e.V.\, Jägerhof\, Darmstädtstr. 125\, Aschaffenburg\, 63741
END:VEVENT
BEGIN:VEVENT
DTSTART;TZID=Europe/Berlin:20270209T143000
DTEND;TZID=Europe/Berlin:20270209T143000
DTSTAMP:20260425T001617
CREATED:20230127T152814Z
LAST-MODIFIED:20231104T025928Z
UID:10001799-1802183400-1802183400@aschaffenburger-bridge-club.de
SUMMARY:Paarturnier Dienstag Mittag
DESCRIPTION:
URL:https://aschaffenburger-bridge-club.de/event/paarturnier-6/2027-02-09/
LOCATION:Aschaffenburger BridgeClub e.V.\, Jägerhof\, Darmstädtstr. 125\, Aschaffenburg\, 63741
END:VEVENT
BEGIN:VEVENT
DTSTART;TZID=Europe/Berlin:20270212T143000
DTEND;TZID=Europe/Berlin:20270212T143000
DTSTAMP:20260425T001617
CREATED:20260419T141356Z
LAST-MODIFIED:20260419T141357Z
UID:10001497-1802442600-1802442600@aschaffenburger-bridge-club.de
SUMMARY:Paarturnier Freitag Mittag
DESCRIPTION:
URL:https://aschaffenburger-bridge-club.de/event/paarturnier-10-2-2-2/2027-02-12/
LOCATION:Aschaffenburger BridgeClub e.V.\, Jägerhof\, Darmstädtstr. 125\, Aschaffenburg\, 63741
END:VEVENT
BEGIN:VEVENT
DTSTART;TZID=Europe/Berlin:20270215T183000
DTEND;TZID=Europe/Berlin:20270215T183000
DTSTAMP:20260425T001617
CREATED:20251120T090439Z
LAST-MODIFIED:20251120T090439Z
UID:10002003-1802716200-1802716200@aschaffenburger-bridge-club.de
SUMMARY:TEAM Montag Abend
DESCRIPTION:
URL:https://aschaffenburger-bridge-club.de/event/teamturnier-3-3/2027-02-15/
LOCATION:Aschaffenburger BridgeClub e.V.\, Jägerhof\, Darmstädtstr. 125\, Aschaffenburg\, 63741
END:VEVENT
BEGIN:VEVENT
DTSTART;TZID=Europe/Berlin:20270216T143000
DTEND;TZID=Europe/Berlin:20270216T143000
DTSTAMP:20260425T001617
CREATED:20230127T152835Z
LAST-MODIFIED:20231104T030120Z
UID:10001860-1802788200-1802788200@aschaffenburger-bridge-club.de
SUMMARY:Paarturnier Dienstag Mittag
DESCRIPTION:
URL:https://aschaffenburger-bridge-club.de/event/paarturnier-7/2027-02-16/
LOCATION:Aschaffenburger BridgeClub e.V.\, Jägerhof\, Darmstädtstr. 125\, Aschaffenburg\, 63741
END:VEVENT
BEGIN:VEVENT
DTSTART;TZID=Europe/Berlin:20270219T143000
DTEND;TZID=Europe/Berlin:20270219T143000
DTSTAMP:20260425T001617
CREATED:20260419T141356Z
LAST-MODIFIED:20260419T141357Z
UID:10001498-1803047400-1803047400@aschaffenburger-bridge-club.de
SUMMARY:Paarturnier Freitag Mittag
DESCRIPTION:
URL:https://aschaffenburger-bridge-club.de/event/paarturnier-10-2-2-2/2027-02-19/
LOCATION:Aschaffenburger BridgeClub e.V.\, Jägerhof\, Darmstädtstr. 125\, Aschaffenburg\, 63741
END:VEVENT
BEGIN:VEVENT
DTSTART;TZID=Europe/Berlin:20270222T183000
DTEND;TZID=Europe/Berlin:20270222T183000
DTSTAMP:20260425T001617
CREATED:20260406T201715Z
LAST-MODIFIED:20260406T202420Z
UID:10001717-1803321000-1803321000@aschaffenburger-bridge-club.de
SUMMARY:Paarturnier 4. Montag Abend
DESCRIPTION:
URL:https://aschaffenburger-bridge-club.de/event/paarturnier-4-3/2027-02-22/
LOCATION:Aschaffenburger BridgeClub e.V.\, Jägerhof\, Darmstädtstr. 125\, Aschaffenburg\, 63741
END:VEVENT
BEGIN:VEVENT
DTSTART;TZID=Europe/Berlin:20270223T143000
DTEND;TZID=Europe/Berlin:20270223T143000
DTSTAMP:20260425T001617
CREATED:20230127T152855Z
LAST-MODIFIED:20231104T025734Z
UID:10001921-1803393000-1803393000@aschaffenburger-bridge-club.de
SUMMARY:Paarturnier Dienstag Mittag
DESCRIPTION:
URL:https://aschaffenburger-bridge-club.de/event/paarturnier-8/2027-02-23/
LOCATION:Aschaffenburger BridgeClub e.V.\, Jägerhof\, Darmstädtstr. 125\, Aschaffenburg\, 63741
END:VEVENT
BEGIN:VEVENT
DTSTART;TZID=Europe/Berlin:20270226T143000
DTEND;TZID=Europe/Berlin:20270226T143000
DTSTAMP:20260425T001617
CREATED:20260419T141356Z
LAST-MODIFIED:20260419T141357Z
UID:10001499-1803652200-1803652200@aschaffenburger-bridge-club.de
SUMMARY:Paarturnier Freitag Mittag
DESCRIPTION:
URL:https://aschaffenburger-bridge-club.de/event/paarturnier-10-2-2-2/2027-02-26/
LOCATION:Aschaffenburger BridgeClub e.V.\, Jägerhof\, Darmstädtstr. 125\, Aschaffenburg\, 63741
END:VEVENT
END:VCALENDAR