BEGIN:VCALENDAR
VERSION:2.0
PRODID:-//Aschaffenburger BridgeClub e.V. - ECPv6.15.20//NONSGML v1.0//EN
CALSCALE:GREGORIAN
METHOD:PUBLISH
X-ORIGINAL-URL:https://aschaffenburger-bridge-club.de
X-WR-CALDESC:Veranstaltungen für Aschaffenburger BridgeClub e.V.
REFRESH-INTERVAL;VALUE=DURATION:PT1H
X-Robots-Tag:noindex
X-PUBLISHED-TTL:PT1H
BEGIN:VTIMEZONE
TZID:Europe/Berlin
BEGIN:DAYLIGHT
TZOFFSETFROM:+0100
TZOFFSETTO:+0200
TZNAME:CEST
DTSTART:20260329T010000
END:DAYLIGHT
BEGIN:STANDARD
TZOFFSETFROM:+0200
TZOFFSETTO:+0100
TZNAME:CET
DTSTART:20261025T010000
END:STANDARD
BEGIN:DAYLIGHT
TZOFFSETFROM:+0100
TZOFFSETTO:+0200
TZNAME:CEST
DTSTART:20270328T010000
END:DAYLIGHT
BEGIN:STANDARD
TZOFFSETFROM:+0200
TZOFFSETTO:+0100
TZNAME:CET
DTSTART:20271031T010000
END:STANDARD
BEGIN:DAYLIGHT
TZOFFSETFROM:+0100
TZOFFSETTO:+0200
TZNAME:CEST
DTSTART:20280326T010000
END:DAYLIGHT
BEGIN:STANDARD
TZOFFSETFROM:+0200
TZOFFSETTO:+0100
TZNAME:CET
DTSTART:20281029T010000
END:STANDARD
END:VTIMEZONE
BEGIN:VEVENT
DTSTART;TZID=Europe/Berlin:20270101T143000
DTEND;TZID=Europe/Berlin:20270101T143000
DTSTAMP:20260424T225234
CREATED:20260419T141356Z
LAST-MODIFIED:20260419T141357Z
UID:10001491-1798813800-1798813800@aschaffenburger-bridge-club.de
SUMMARY:Paarturnier Freitag Mittag
DESCRIPTION:
URL:https://aschaffenburger-bridge-club.de/event/paarturnier-10-2-2-2/2027-01-01/
LOCATION:Aschaffenburger BridgeClub e.V.\, Jägerhof\, Darmstädtstr. 125\, Aschaffenburg\, 63741
END:VEVENT
BEGIN:VEVENT
DTSTART;TZID=Europe/Berlin:20270104T183000
DTEND;TZID=Europe/Berlin:20270104T183000
DTSTAMP:20260424T225234
CREATED:20230204T135315Z
LAST-MODIFIED:20231204T145631Z
UID:10001594-1799087400-1799087400@aschaffenburger-bridge-club.de
SUMMARY:Paarturnier 1. Montag Abend
DESCRIPTION:
URL:https://aschaffenburger-bridge-club.de/event/paarturnier-2-2/2027-01-04/
LOCATION:Aschaffenburger BridgeClub e.V.\, Jägerhof\, Darmstädtstr. 125\, Aschaffenburg\, 63741
END:VEVENT
BEGIN:VEVENT
DTSTART;TZID=Europe/Berlin:20270105T143000
DTEND;TZID=Europe/Berlin:20270105T170000
DTSTAMP:20260424T225234
CREATED:20231104T081040Z
LAST-MODIFIED:20240813T091014Z
UID:10002337-1799159400-1799168400@aschaffenburger-bridge-club.de
SUMMARY:TEAM Dienstag Mittag
DESCRIPTION:
URL:https://aschaffenburger-bridge-club.de/event/team-dienstag-mittag/2027-01-05/
LOCATION:Aschaffenburger BridgeClub e.V.\, Jägerhof\, Darmstädtstr. 125\, Aschaffenburg\, 63741
END:VEVENT
BEGIN:VEVENT
DTSTART;TZID=Europe/Berlin:20270108T143000
DTEND;TZID=Europe/Berlin:20270108T143000
DTSTAMP:20260424T225234
CREATED:20260419T141356Z
LAST-MODIFIED:20260419T141357Z
UID:10001492-1799418600-1799418600@aschaffenburger-bridge-club.de
SUMMARY:Paarturnier Freitag Mittag
DESCRIPTION:
URL:https://aschaffenburger-bridge-club.de/event/paarturnier-10-2-2-2/2027-01-08/
LOCATION:Aschaffenburger BridgeClub e.V.\, Jägerhof\, Darmstädtstr. 125\, Aschaffenburg\, 63741
END:VEVENT
BEGIN:VEVENT
DTSTART;TZID=Europe/Berlin:20270111T183000
DTEND;TZID=Europe/Berlin:20270111T210000
DTSTAMP:20260424T225234
CREATED:20260419T140950Z
LAST-MODIFIED:20260419T140951Z
UID:10002966-1799692200-1799701200@aschaffenburger-bridge-club.de
SUMMARY:Paarturnier 2. Montag Abend
DESCRIPTION:
URL:https://aschaffenburger-bridge-club.de/event/paarturnier-2-montag-abend-neu-2/2027-01-11/
LOCATION:Aschaffenburger BridgeClub e.V.\, Jägerhof\, Darmstädtstr. 125\, Aschaffenburg\, 63741
END:VEVENT
BEGIN:VEVENT
DTSTART;TZID=Europe/Berlin:20270112T143000
DTEND;TZID=Europe/Berlin:20270112T143000
DTSTAMP:20260424T225234
CREATED:20230127T152814Z
LAST-MODIFIED:20231104T025928Z
UID:10001798-1799764200-1799764200@aschaffenburger-bridge-club.de
SUMMARY:Paarturnier Dienstag Mittag
DESCRIPTION:
URL:https://aschaffenburger-bridge-club.de/event/paarturnier-6/2027-01-12/
LOCATION:Aschaffenburger BridgeClub e.V.\, Jägerhof\, Darmstädtstr. 125\, Aschaffenburg\, 63741
END:VEVENT
BEGIN:VEVENT
DTSTART;TZID=Europe/Berlin:20270115T143000
DTEND;TZID=Europe/Berlin:20270115T143000
DTSTAMP:20260424T225234
CREATED:20260419T141356Z
LAST-MODIFIED:20260419T141357Z
UID:10001493-1800023400-1800023400@aschaffenburger-bridge-club.de
SUMMARY:Paarturnier Freitag Mittag
DESCRIPTION:
URL:https://aschaffenburger-bridge-club.de/event/paarturnier-10-2-2-2/2027-01-15/
LOCATION:Aschaffenburger BridgeClub e.V.\, Jägerhof\, Darmstädtstr. 125\, Aschaffenburg\, 63741
END:VEVENT
BEGIN:VEVENT
DTSTART;TZID=Europe/Berlin:20270118T183000
DTEND;TZID=Europe/Berlin:20270118T183000
DTSTAMP:20260424T225234
CREATED:20251120T090439Z
LAST-MODIFIED:20251120T090439Z
UID:10002002-1800297000-1800297000@aschaffenburger-bridge-club.de
SUMMARY:TEAM Montag Abend
DESCRIPTION:
URL:https://aschaffenburger-bridge-club.de/event/teamturnier-3-3/2027-01-18/
LOCATION:Aschaffenburger BridgeClub e.V.\, Jägerhof\, Darmstädtstr. 125\, Aschaffenburg\, 63741
END:VEVENT
BEGIN:VEVENT
DTSTART;TZID=Europe/Berlin:20270119T143000
DTEND;TZID=Europe/Berlin:20270119T143000
DTSTAMP:20260424T225234
CREATED:20230127T152835Z
LAST-MODIFIED:20231104T030120Z
UID:10001859-1800369000-1800369000@aschaffenburger-bridge-club.de
SUMMARY:Paarturnier Dienstag Mittag
DESCRIPTION:
URL:https://aschaffenburger-bridge-club.de/event/paarturnier-7/2027-01-19/
LOCATION:Aschaffenburger BridgeClub e.V.\, Jägerhof\, Darmstädtstr. 125\, Aschaffenburg\, 63741
END:VEVENT
BEGIN:VEVENT
DTSTART;TZID=Europe/Berlin:20270122T143000
DTEND;TZID=Europe/Berlin:20270122T143000
DTSTAMP:20260424T225234
CREATED:20260419T141356Z
LAST-MODIFIED:20260419T141357Z
UID:10001494-1800628200-1800628200@aschaffenburger-bridge-club.de
SUMMARY:Paarturnier Freitag Mittag
DESCRIPTION:
URL:https://aschaffenburger-bridge-club.de/event/paarturnier-10-2-2-2/2027-01-22/
LOCATION:Aschaffenburger BridgeClub e.V.\, Jägerhof\, Darmstädtstr. 125\, Aschaffenburg\, 63741
END:VEVENT
BEGIN:VEVENT
DTSTART;TZID=Europe/Berlin:20270125T183000
DTEND;TZID=Europe/Berlin:20270125T183000
DTSTAMP:20260424T225234
CREATED:20260406T201715Z
LAST-MODIFIED:20260406T202420Z
UID:10001716-1800901800-1800901800@aschaffenburger-bridge-club.de
SUMMARY:Paarturnier 4. Montag Abend
DESCRIPTION:
URL:https://aschaffenburger-bridge-club.de/event/paarturnier-4-3/2027-01-25/
LOCATION:Aschaffenburger BridgeClub e.V.\, Jägerhof\, Darmstädtstr. 125\, Aschaffenburg\, 63741
END:VEVENT
BEGIN:VEVENT
DTSTART;TZID=Europe/Berlin:20270126T143000
DTEND;TZID=Europe/Berlin:20270126T143000
DTSTAMP:20260424T225234
CREATED:20230127T152855Z
LAST-MODIFIED:20231104T025734Z
UID:10001920-1800973800-1800973800@aschaffenburger-bridge-club.de
SUMMARY:Paarturnier Dienstag Mittag
DESCRIPTION:
URL:https://aschaffenburger-bridge-club.de/event/paarturnier-8/2027-01-26/
LOCATION:Aschaffenburger BridgeClub e.V.\, Jägerhof\, Darmstädtstr. 125\, Aschaffenburg\, 63741
END:VEVENT
BEGIN:VEVENT
DTSTART;TZID=Europe/Berlin:20270129T143000
DTEND;TZID=Europe/Berlin:20270129T143000
DTSTAMP:20260424T225234
CREATED:20260419T141356Z
LAST-MODIFIED:20260419T141357Z
UID:10001495-1801233000-1801233000@aschaffenburger-bridge-club.de
SUMMARY:Paarturnier Freitag Mittag
DESCRIPTION:
URL:https://aschaffenburger-bridge-club.de/event/paarturnier-10-2-2-2/2027-01-29/
LOCATION:Aschaffenburger BridgeClub e.V.\, Jägerhof\, Darmstädtstr. 125\, Aschaffenburg\, 63741
END:VEVENT
END:VCALENDAR