BEGIN:VCALENDAR
VERSION:2.0
PRODID:-//Aschaffenburger BridgeClub e.V. - ECPv6.15.20//NONSGML v1.0//EN
CALSCALE:GREGORIAN
METHOD:PUBLISH
X-ORIGINAL-URL:https://aschaffenburger-bridge-club.de
X-WR-CALDESC:Veranstaltungen für Aschaffenburger BridgeClub e.V.
REFRESH-INTERVAL;VALUE=DURATION:PT1H
X-Robots-Tag:noindex
X-PUBLISHED-TTL:PT1H
BEGIN:VTIMEZONE
TZID:Europe/Berlin
BEGIN:DAYLIGHT
TZOFFSETFROM:+0100
TZOFFSETTO:+0200
TZNAME:CEST
DTSTART:20250330T010000
END:DAYLIGHT
BEGIN:STANDARD
TZOFFSETFROM:+0200
TZOFFSETTO:+0100
TZNAME:CET
DTSTART:20251026T010000
END:STANDARD
BEGIN:DAYLIGHT
TZOFFSETFROM:+0100
TZOFFSETTO:+0200
TZNAME:CEST
DTSTART:20260329T010000
END:DAYLIGHT
BEGIN:STANDARD
TZOFFSETFROM:+0200
TZOFFSETTO:+0100
TZNAME:CET
DTSTART:20261025T010000
END:STANDARD
BEGIN:DAYLIGHT
TZOFFSETFROM:+0100
TZOFFSETTO:+0200
TZNAME:CEST
DTSTART:20270328T010000
END:DAYLIGHT
BEGIN:STANDARD
TZOFFSETFROM:+0200
TZOFFSETTO:+0100
TZNAME:CET
DTSTART:20271031T010000
END:STANDARD
END:VTIMEZONE
BEGIN:VEVENT
DTSTART;TZID=Europe/Berlin:20261201T143000
DTEND;TZID=Europe/Berlin:20261201T170000
DTSTAMP:20260424T211344
CREATED:20250114T134158Z
LAST-MODIFIED:20251120T094220Z
UID:10002855-1796135400-1796144400@aschaffenburger-bridge-club.de
SUMMARY:Nikolaus Buffet
DESCRIPTION:Nach dem Nikolaus-Turnier um 14.30 gibt es einen schönen Buffet – bitte  in der Liste – Nikolaus-Buffet eintragen was Du mitbringen möchtest. (Auch Brot wird gebraucht!)
URL:https://aschaffenburger-bridge-club.de/event/nikolaus-buffet/2026-12-01/
LOCATION:Aschaffenburger BridgeClub e.V.\, Jägerhof\, Darmstädtstr. 125\, Aschaffenburg\, 63741
ATTACH;FMTTYPE=image/jpeg:https://aschaffenburger-bridge-club.de/wp-content/uploads/2024/10/BC-Mos-Salate-e1728159705926.jpg
END:VEVENT
BEGIN:VEVENT
DTSTART;TZID=Europe/Berlin:20261201T143000
DTEND;TZID=Europe/Berlin:20261201T180000
DTSTAMP:20260424T211344
CREATED:20260419T142337Z
LAST-MODIFIED:20260419T142337Z
UID:10002854-1796135400-1796148000@aschaffenburger-bridge-club.de
SUMMARY:Nikolaus TEAM Dienstag Mittag
DESCRIPTION:Meldet euch auch für Buffet- Essen an!
URL:https://aschaffenburger-bridge-club.de/event/team-dienstag-mittag-3-2/
LOCATION:Aschaffenburger BridgeClub e.V.\, Jägerhof\, Darmstädtstr. 125\, Aschaffenburg\, 63741
ATTACH;FMTTYPE=image/png:https://aschaffenburger-bridge-club.de/wp-content/uploads/2023/12/Bildschirmfoto-2023-12-06-um-11.37.22.png
END:VEVENT
BEGIN:VEVENT
DTSTART;TZID=Europe/Berlin:20261204T143000
DTEND;TZID=Europe/Berlin:20261204T143000
DTSTAMP:20260424T211344
CREATED:20260419T141356Z
LAST-MODIFIED:20260419T141357Z
UID:10001487-1796394600-1796394600@aschaffenburger-bridge-club.de
SUMMARY:Paarturnier Freitag Mittag
DESCRIPTION:
URL:https://aschaffenburger-bridge-club.de/event/paarturnier-10-2-2-2/2026-12-04/
LOCATION:Aschaffenburger BridgeClub e.V.\, Jägerhof\, Darmstädtstr. 125\, Aschaffenburg\, 63741
END:VEVENT
BEGIN:VEVENT
DTSTART;TZID=Europe/Berlin:20261207T183000
DTEND;TZID=Europe/Berlin:20261207T183000
DTSTAMP:20260424T211344
CREATED:20230204T135315Z
LAST-MODIFIED:20231204T145631Z
UID:10001593-1796668200-1796668200@aschaffenburger-bridge-club.de
SUMMARY:Paarturnier 1. Montag Abend
DESCRIPTION:
URL:https://aschaffenburger-bridge-club.de/event/paarturnier-2-2/2026-12-07/
LOCATION:Aschaffenburger BridgeClub e.V.\, Jägerhof\, Darmstädtstr. 125\, Aschaffenburg\, 63741
END:VEVENT
BEGIN:VEVENT
DTSTART;TZID=Europe/Berlin:20261208T143000
DTEND;TZID=Europe/Berlin:20261208T143000
DTSTAMP:20260424T211344
CREATED:20230127T152814Z
LAST-MODIFIED:20231104T025928Z
UID:10001797-1796740200-1796740200@aschaffenburger-bridge-club.de
SUMMARY:Paarturnier Dienstag Mittag
DESCRIPTION:
URL:https://aschaffenburger-bridge-club.de/event/paarturnier-6/2026-12-08/
LOCATION:Aschaffenburger BridgeClub e.V.\, Jägerhof\, Darmstädtstr. 125\, Aschaffenburg\, 63741
END:VEVENT
BEGIN:VEVENT
DTSTART;TZID=Europe/Berlin:20261211T143000
DTEND;TZID=Europe/Berlin:20261211T143000
DTSTAMP:20260424T211344
CREATED:20260419T141356Z
LAST-MODIFIED:20260419T141357Z
UID:10001488-1796999400-1796999400@aschaffenburger-bridge-club.de
SUMMARY:Paarturnier Freitag Mittag
DESCRIPTION:
URL:https://aschaffenburger-bridge-club.de/event/paarturnier-10-2-2-2/2026-12-11/
LOCATION:Aschaffenburger BridgeClub e.V.\, Jägerhof\, Darmstädtstr. 125\, Aschaffenburg\, 63741
END:VEVENT
BEGIN:VEVENT
DTSTART;TZID=Europe/Berlin:20261214T143000
DTEND;TZID=Europe/Berlin:20261214T200000
DTSTAMP:20260424T211344
CREATED:20260419T141520Z
LAST-MODIFIED:20260419T141520Z
UID:10002856-1797258600-1797278400@aschaffenburger-bridge-club.de
SUMMARY:Weihnachts-Turnier
DESCRIPTION:
URL:https://aschaffenburger-bridge-club.de/event/weihnachts-turnier-2/
LOCATION:Ristorante Da Claudio im Hofgarten\, Hofgartenstr. 1a\, Aschaffenburg\, 63739\, Germany
ATTACH;FMTTYPE=image/jpeg:https://aschaffenburger-bridge-club.de/wp-content/uploads/2025/08/Weihnachten-pixabay.jpg
END:VEVENT
BEGIN:VEVENT
DTSTART;TZID=Europe/Berlin:20261215T143000
DTEND;TZID=Europe/Berlin:20261215T143000
DTSTAMP:20260424T211344
CREATED:20230127T152835Z
LAST-MODIFIED:20231104T030120Z
UID:10001858-1797345000-1797345000@aschaffenburger-bridge-club.de
SUMMARY:Paarturnier Dienstag Mittag
DESCRIPTION:
URL:https://aschaffenburger-bridge-club.de/event/paarturnier-7/2026-12-15/
LOCATION:Aschaffenburger BridgeClub e.V.\, Jägerhof\, Darmstädtstr. 125\, Aschaffenburg\, 63741
END:VEVENT
BEGIN:VEVENT
DTSTART;TZID=Europe/Berlin:20261218T143000
DTEND;TZID=Europe/Berlin:20261218T143000
DTSTAMP:20260424T211344
CREATED:20260419T141356Z
LAST-MODIFIED:20260419T141357Z
UID:10001489-1797604200-1797604200@aschaffenburger-bridge-club.de
SUMMARY:Paarturnier Freitag Mittag
DESCRIPTION:
URL:https://aschaffenburger-bridge-club.de/event/paarturnier-10-2-2-2/2026-12-18/
LOCATION:Aschaffenburger BridgeClub e.V.\, Jägerhof\, Darmstädtstr. 125\, Aschaffenburg\, 63741
END:VEVENT
BEGIN:VEVENT
DTSTART;TZID=Europe/Berlin:20261221T183000
DTEND;TZID=Europe/Berlin:20261221T183000
DTSTAMP:20260424T211344
CREATED:20251120T090439Z
LAST-MODIFIED:20251120T090439Z
UID:10002001-1797877800-1797877800@aschaffenburger-bridge-club.de
SUMMARY:TEAM Montag Abend
DESCRIPTION:
URL:https://aschaffenburger-bridge-club.de/event/teamturnier-3-3/2026-12-21/
LOCATION:Aschaffenburger BridgeClub e.V.\, Jägerhof\, Darmstädtstr. 125\, Aschaffenburg\, 63741
END:VEVENT
BEGIN:VEVENT
DTSTART;TZID=Europe/Berlin:20261222T143000
DTEND;TZID=Europe/Berlin:20261222T143000
DTSTAMP:20260424T211344
CREATED:20230127T152855Z
LAST-MODIFIED:20231104T025734Z
UID:10001919-1797949800-1797949800@aschaffenburger-bridge-club.de
SUMMARY:Paarturnier Dienstag Mittag
DESCRIPTION:
URL:https://aschaffenburger-bridge-club.de/event/paarturnier-8/2026-12-22/
LOCATION:Aschaffenburger BridgeClub e.V.\, Jägerhof\, Darmstädtstr. 125\, Aschaffenburg\, 63741
END:VEVENT
BEGIN:VEVENT
DTSTART;VALUE=DATE:20261225
DTEND;VALUE=DATE:20261226
DTSTAMP:20260424T211344
CREATED:20241204T162015Z
LAST-MODIFIED:20251120T092938Z
UID:10002849-1798185600-1798218000@aschaffenburger-bridge-club.de
SUMMARY:Weihnachten
DESCRIPTION:Es wird heute nicht gespielt.
URL:https://aschaffenburger-bridge-club.de/event/weihnachten/2026-12-25/
LOCATION:Aschaffenburger BridgeClub e.V.\, Jägerhof\, Darmstädtstr. 125\, Aschaffenburg\, 63741
END:VEVENT
BEGIN:VEVENT
DTSTART;TZID=Europe/Berlin:20261228T183000
DTEND;TZID=Europe/Berlin:20261228T183000
DTSTAMP:20260424T211344
CREATED:20260406T201715Z
LAST-MODIFIED:20260406T202420Z
UID:10001715-1798482600-1798482600@aschaffenburger-bridge-club.de
SUMMARY:Paarturnier 4. Montag Abend
DESCRIPTION:
URL:https://aschaffenburger-bridge-club.de/event/paarturnier-4-3/2026-12-28/
LOCATION:Aschaffenburger BridgeClub e.V.\, Jägerhof\, Darmstädtstr. 125\, Aschaffenburg\, 63741
END:VEVENT
BEGIN:VEVENT
DTSTART;TZID=Europe/Berlin:20261229T143000
DTEND;TZID=Europe/Berlin:20261229T200000
DTSTAMP:20260424T211344
CREATED:20260406T203506Z
LAST-MODIFIED:20260406T203506Z
UID:10001949-1798554600-1798574400@aschaffenburger-bridge-club.de
SUMMARY:Paarturnier 5. Dienstag Mittag
DESCRIPTION:
URL:https://aschaffenburger-bridge-club.de/event/paarturnier-9-3-2/2026-12-29/
LOCATION:Aschaffenburger BridgeClub e.V.\, Jägerhof\, Darmstädtstr. 125\, Aschaffenburg\, 63741
END:VEVENT
END:VCALENDAR