BEGIN:VCALENDAR
VERSION:2.0
PRODID:-//Aschaffenburger BridgeClub e.V. - ECPv6.15.20//NONSGML v1.0//EN
CALSCALE:GREGORIAN
METHOD:PUBLISH
X-ORIGINAL-URL:https://aschaffenburger-bridge-club.de
X-WR-CALDESC:Veranstaltungen für Aschaffenburger BridgeClub e.V.
REFRESH-INTERVAL;VALUE=DURATION:PT1H
X-Robots-Tag:noindex
X-PUBLISHED-TTL:PT1H
BEGIN:VTIMEZONE
TZID:Europe/Berlin
BEGIN:DAYLIGHT
TZOFFSETFROM:+0100
TZOFFSETTO:+0200
TZNAME:CEST
DTSTART:20250330T010000
END:DAYLIGHT
BEGIN:STANDARD
TZOFFSETFROM:+0200
TZOFFSETTO:+0100
TZNAME:CET
DTSTART:20251026T010000
END:STANDARD
BEGIN:DAYLIGHT
TZOFFSETFROM:+0100
TZOFFSETTO:+0200
TZNAME:CEST
DTSTART:20260329T010000
END:DAYLIGHT
BEGIN:STANDARD
TZOFFSETFROM:+0200
TZOFFSETTO:+0100
TZNAME:CET
DTSTART:20261025T010000
END:STANDARD
BEGIN:DAYLIGHT
TZOFFSETFROM:+0100
TZOFFSETTO:+0200
TZNAME:CEST
DTSTART:20270328T010000
END:DAYLIGHT
BEGIN:STANDARD
TZOFFSETFROM:+0200
TZOFFSETTO:+0100
TZNAME:CET
DTSTART:20271031T010000
END:STANDARD
END:VTIMEZONE
BEGIN:VEVENT
DTSTART;TZID=Europe/Berlin:20261002T143000
DTEND;TZID=Europe/Berlin:20261002T143000
DTSTAMP:20260424T174402
CREATED:20260419T141356Z
LAST-MODIFIED:20260419T141357Z
UID:10001478-1790951400-1790951400@aschaffenburger-bridge-club.de
SUMMARY:Paarturnier Freitag Mittag
DESCRIPTION:
URL:https://aschaffenburger-bridge-club.de/event/paarturnier-10-2-2-2/2026-10-02/
LOCATION:Aschaffenburger BridgeClub e.V.\, Jägerhof\, Darmstädtstr. 125\, Aschaffenburg\, 63741
END:VEVENT
BEGIN:VEVENT
DTSTART;TZID=Europe/Berlin:20261005T183000
DTEND;TZID=Europe/Berlin:20261005T183000
DTSTAMP:20260424T174402
CREATED:20230204T135315Z
LAST-MODIFIED:20231204T145631Z
UID:10001591-1791225000-1791225000@aschaffenburger-bridge-club.de
SUMMARY:Paarturnier 1. Montag Abend
DESCRIPTION:
URL:https://aschaffenburger-bridge-club.de/event/paarturnier-2-2/2026-10-05/
LOCATION:Aschaffenburger BridgeClub e.V.\, Jägerhof\, Darmstädtstr. 125\, Aschaffenburg\, 63741
END:VEVENT
BEGIN:VEVENT
DTSTART;TZID=Europe/Berlin:20261006T143000
DTEND;TZID=Europe/Berlin:20261006T170000
DTSTAMP:20260424T174402
CREATED:20231104T081040Z
LAST-MODIFIED:20240813T091014Z
UID:10002334-1791297000-1791306000@aschaffenburger-bridge-club.de
SUMMARY:TEAM Dienstag Mittag
DESCRIPTION:
URL:https://aschaffenburger-bridge-club.de/event/team-dienstag-mittag/2026-10-06/
LOCATION:Aschaffenburger BridgeClub e.V.\, Jägerhof\, Darmstädtstr. 125\, Aschaffenburg\, 63741
END:VEVENT
BEGIN:VEVENT
DTSTART;TZID=Europe/Berlin:20261009T143000
DTEND;TZID=Europe/Berlin:20261009T143000
DTSTAMP:20260424T174402
CREATED:20260419T141356Z
LAST-MODIFIED:20260419T141357Z
UID:10001479-1791556200-1791556200@aschaffenburger-bridge-club.de
SUMMARY:Paarturnier Freitag Mittag
DESCRIPTION:
URL:https://aschaffenburger-bridge-club.de/event/paarturnier-10-2-2-2/2026-10-09/
LOCATION:Aschaffenburger BridgeClub e.V.\, Jägerhof\, Darmstädtstr. 125\, Aschaffenburg\, 63741
END:VEVENT
BEGIN:VEVENT
DTSTART;TZID=Europe/Berlin:20261012T183000
DTEND;TZID=Europe/Berlin:20261012T210000
DTSTAMP:20260424T174402
CREATED:20260327T150919Z
LAST-MODIFIED:20260406T202108Z
UID:10002963-1791829800-1791838800@aschaffenburger-bridge-club.de
SUMMARY:Paarturnier 2. Montag Abend
DESCRIPTION:
URL:https://aschaffenburger-bridge-club.de/event/paarturnier-2-montag-abend-neu/2026-10-12/
LOCATION:Aschaffenburger BridgeClub e.V.\, Jägerhof\, Darmstädtstr. 125\, Aschaffenburg\, 63741
END:VEVENT
BEGIN:VEVENT
DTSTART;TZID=Europe/Berlin:20261013T143000
DTEND;TZID=Europe/Berlin:20261013T143000
DTSTAMP:20260424T174402
CREATED:20230127T152814Z
LAST-MODIFIED:20231104T025928Z
UID:10001795-1791901800-1791901800@aschaffenburger-bridge-club.de
SUMMARY:Paarturnier Dienstag Mittag
DESCRIPTION:
URL:https://aschaffenburger-bridge-club.de/event/paarturnier-6/2026-10-13/
LOCATION:Aschaffenburger BridgeClub e.V.\, Jägerhof\, Darmstädtstr. 125\, Aschaffenburg\, 63741
END:VEVENT
BEGIN:VEVENT
DTSTART;TZID=Europe/Berlin:20261016T143000
DTEND;TZID=Europe/Berlin:20261016T143000
DTSTAMP:20260424T174402
CREATED:20260419T141356Z
LAST-MODIFIED:20260419T141357Z
UID:10001480-1792161000-1792161000@aschaffenburger-bridge-club.de
SUMMARY:Paarturnier Freitag Mittag
DESCRIPTION:
URL:https://aschaffenburger-bridge-club.de/event/paarturnier-10-2-2-2/2026-10-16/
LOCATION:Aschaffenburger BridgeClub e.V.\, Jägerhof\, Darmstädtstr. 125\, Aschaffenburg\, 63741
END:VEVENT
BEGIN:VEVENT
DTSTART;TZID=Europe/Berlin:20261019T183000
DTEND;TZID=Europe/Berlin:20261019T183000
DTSTAMP:20260424T174402
CREATED:20251120T090439Z
LAST-MODIFIED:20251120T090439Z
UID:10001999-1792434600-1792434600@aschaffenburger-bridge-club.de
SUMMARY:TEAM Montag Abend
DESCRIPTION:
URL:https://aschaffenburger-bridge-club.de/event/teamturnier-3-3/2026-10-19/
LOCATION:Aschaffenburger BridgeClub e.V.\, Jägerhof\, Darmstädtstr. 125\, Aschaffenburg\, 63741
END:VEVENT
BEGIN:VEVENT
DTSTART;TZID=Europe/Berlin:20261020T143000
DTEND;TZID=Europe/Berlin:20261020T143000
DTSTAMP:20260424T174402
CREATED:20230127T152835Z
LAST-MODIFIED:20231104T030120Z
UID:10001856-1792506600-1792506600@aschaffenburger-bridge-club.de
SUMMARY:Paarturnier Dienstag Mittag
DESCRIPTION:
URL:https://aschaffenburger-bridge-club.de/event/paarturnier-7/2026-10-20/
LOCATION:Aschaffenburger BridgeClub e.V.\, Jägerhof\, Darmstädtstr. 125\, Aschaffenburg\, 63741
END:VEVENT
BEGIN:VEVENT
DTSTART;TZID=Europe/Berlin:20261023T143000
DTEND;TZID=Europe/Berlin:20261023T143000
DTSTAMP:20260424T174402
CREATED:20260419T141356Z
LAST-MODIFIED:20260419T141357Z
UID:10001481-1792765800-1792765800@aschaffenburger-bridge-club.de
SUMMARY:Paarturnier Freitag Mittag
DESCRIPTION:
URL:https://aschaffenburger-bridge-club.de/event/paarturnier-10-2-2-2/2026-10-23/
LOCATION:Aschaffenburger BridgeClub e.V.\, Jägerhof\, Darmstädtstr. 125\, Aschaffenburg\, 63741
END:VEVENT
BEGIN:VEVENT
DTSTART;TZID=Europe/Berlin:20261026T183000
DTEND;TZID=Europe/Berlin:20261026T183000
DTSTAMP:20260424T174402
CREATED:20260406T201715Z
LAST-MODIFIED:20260406T202420Z
UID:10001713-1793039400-1793039400@aschaffenburger-bridge-club.de
SUMMARY:Paarturnier 4. Montag Abend
DESCRIPTION:
URL:https://aschaffenburger-bridge-club.de/event/paarturnier-4-3/2026-10-26/
LOCATION:Aschaffenburger BridgeClub e.V.\, Jägerhof\, Darmstädtstr. 125\, Aschaffenburg\, 63741
END:VEVENT
BEGIN:VEVENT
DTSTART;TZID=Europe/Berlin:20261027T143000
DTEND;TZID=Europe/Berlin:20261027T143000
DTSTAMP:20260424T174402
CREATED:20230127T152855Z
LAST-MODIFIED:20231104T025734Z
UID:10001917-1793111400-1793111400@aschaffenburger-bridge-club.de
SUMMARY:Paarturnier Dienstag Mittag
DESCRIPTION:
URL:https://aschaffenburger-bridge-club.de/event/paarturnier-8/2026-10-27/
LOCATION:Aschaffenburger BridgeClub e.V.\, Jägerhof\, Darmstädtstr. 125\, Aschaffenburg\, 63741
END:VEVENT
BEGIN:VEVENT
DTSTART;TZID=Europe/Berlin:20261030T143000
DTEND;TZID=Europe/Berlin:20261030T143000
DTSTAMP:20260424T174402
CREATED:20260419T141356Z
LAST-MODIFIED:20260419T141357Z
UID:10001482-1793370600-1793370600@aschaffenburger-bridge-club.de
SUMMARY:Paarturnier Freitag Mittag
DESCRIPTION:
URL:https://aschaffenburger-bridge-club.de/event/paarturnier-10-2-2-2/2026-10-30/
LOCATION:Aschaffenburger BridgeClub e.V.\, Jägerhof\, Darmstädtstr. 125\, Aschaffenburg\, 63741
END:VEVENT
BEGIN:VEVENT
DTSTART;TZID=Europe/Berlin:20261031T143000
DTEND;TZID=Europe/Berlin:20261031T170000
DTSTAMP:20260424T174402
CREATED:20241204T161830Z
LAST-MODIFIED:20251120T094533Z
UID:10002859-1793457000-1793466000@aschaffenburger-bridge-club.de
SUMMARY:Club-TEAM Meisterschaft
DESCRIPTION:
URL:https://aschaffenburger-bridge-club.de/event/club-team-meisterschaft/2026-10-31/
LOCATION:Aschaffenburger BridgeClub e.V.\, Jägerhof\, Darmstädtstr. 125\, Aschaffenburg\, 63741
ATTACH;FMTTYPE=image/jpeg:https://aschaffenburger-bridge-club.de/wp-content/uploads/2023/02/women-learning.jpg
END:VEVENT
END:VCALENDAR