BEGIN:VCALENDAR
VERSION:2.0
PRODID:-//Aschaffenburger BridgeClub e.V. - ECPv6.15.20//NONSGML v1.0//EN
CALSCALE:GREGORIAN
METHOD:PUBLISH
X-WR-CALNAME:Aschaffenburger BridgeClub e.V.
X-ORIGINAL-URL:https://aschaffenburger-bridge-club.de
X-WR-CALDESC:Veranstaltungen für Aschaffenburger BridgeClub e.V.
REFRESH-INTERVAL;VALUE=DURATION:PT1H
X-Robots-Tag:noindex
X-PUBLISHED-TTL:PT1H
BEGIN:VTIMEZONE
TZID:Europe/Berlin
BEGIN:DAYLIGHT
TZOFFSETFROM:+0100
TZOFFSETTO:+0200
TZNAME:CEST
DTSTART:20250330T010000
END:DAYLIGHT
BEGIN:STANDARD
TZOFFSETFROM:+0200
TZOFFSETTO:+0100
TZNAME:CET
DTSTART:20251026T010000
END:STANDARD
BEGIN:DAYLIGHT
TZOFFSETFROM:+0100
TZOFFSETTO:+0200
TZNAME:CEST
DTSTART:20260329T010000
END:DAYLIGHT
BEGIN:STANDARD
TZOFFSETFROM:+0200
TZOFFSETTO:+0100
TZNAME:CET
DTSTART:20261025T010000
END:STANDARD
BEGIN:DAYLIGHT
TZOFFSETFROM:+0100
TZOFFSETTO:+0200
TZNAME:CEST
DTSTART:20270328T010000
END:DAYLIGHT
BEGIN:STANDARD
TZOFFSETFROM:+0200
TZOFFSETTO:+0100
TZNAME:CET
DTSTART:20271031T010000
END:STANDARD
END:VTIMEZONE
BEGIN:VEVENT
DTSTART;TZID=Europe/Berlin:20260901T143000
DTEND;TZID=Europe/Berlin:20260901T170000
DTSTAMP:20260424T155500
CREATED:20231104T081040Z
LAST-MODIFIED:20240813T091014Z
UID:10002333-1788273000-1788282000@aschaffenburger-bridge-club.de
SUMMARY:TEAM Dienstag Mittag
DESCRIPTION:
URL:https://aschaffenburger-bridge-club.de/event/team-dienstag-mittag/2026-09-01/
LOCATION:Aschaffenburger BridgeClub e.V.\, Jägerhof\, Darmstädtstr. 125\, Aschaffenburg\, 63741
END:VEVENT
BEGIN:VEVENT
DTSTART;TZID=Europe/Berlin:20260904T143000
DTEND;TZID=Europe/Berlin:20260904T143000
DTSTAMP:20260424T155500
CREATED:20260419T141356Z
LAST-MODIFIED:20260419T141357Z
UID:10001474-1788532200-1788532200@aschaffenburger-bridge-club.de
SUMMARY:Paarturnier Freitag Mittag
DESCRIPTION:
URL:https://aschaffenburger-bridge-club.de/event/paarturnier-10-2-2-2/2026-09-04/
LOCATION:Aschaffenburger BridgeClub e.V.\, Jägerhof\, Darmstädtstr. 125\, Aschaffenburg\, 63741
END:VEVENT
BEGIN:VEVENT
DTSTART;TZID=Europe/Berlin:20260907T183000
DTEND;TZID=Europe/Berlin:20260907T183000
DTSTAMP:20260424T155500
CREATED:20230204T135315Z
LAST-MODIFIED:20231204T145631Z
UID:10001590-1788805800-1788805800@aschaffenburger-bridge-club.de
SUMMARY:Paarturnier 1. Montag Abend
DESCRIPTION:
URL:https://aschaffenburger-bridge-club.de/event/paarturnier-2-2/2026-09-07/
LOCATION:Aschaffenburger BridgeClub e.V.\, Jägerhof\, Darmstädtstr. 125\, Aschaffenburg\, 63741
END:VEVENT
BEGIN:VEVENT
DTSTART;TZID=Europe/Berlin:20260908T143000
DTEND;TZID=Europe/Berlin:20260908T143000
DTSTAMP:20260424T155500
CREATED:20230127T152814Z
LAST-MODIFIED:20231104T025928Z
UID:10001794-1788877800-1788877800@aschaffenburger-bridge-club.de
SUMMARY:Paarturnier Dienstag Mittag
DESCRIPTION:
URL:https://aschaffenburger-bridge-club.de/event/paarturnier-6/2026-09-08/
LOCATION:Aschaffenburger BridgeClub e.V.\, Jägerhof\, Darmstädtstr. 125\, Aschaffenburg\, 63741
END:VEVENT
BEGIN:VEVENT
DTSTART;TZID=Europe/Berlin:20260911T143000
DTEND;TZID=Europe/Berlin:20260911T143000
DTSTAMP:20260424T155500
CREATED:20260419T141356Z
LAST-MODIFIED:20260419T141357Z
UID:10001475-1789137000-1789137000@aschaffenburger-bridge-club.de
SUMMARY:Paarturnier Freitag Mittag
DESCRIPTION:
URL:https://aschaffenburger-bridge-club.de/event/paarturnier-10-2-2-2/2026-09-11/
LOCATION:Aschaffenburger BridgeClub e.V.\, Jägerhof\, Darmstädtstr. 125\, Aschaffenburg\, 63741
END:VEVENT
BEGIN:VEVENT
DTSTART;TZID=Europe/Berlin:20260914T183000
DTEND;TZID=Europe/Berlin:20260914T210000
DTSTAMP:20260424T155500
CREATED:20260327T150919Z
LAST-MODIFIED:20260406T202108Z
UID:10002962-1789410600-1789419600@aschaffenburger-bridge-club.de
SUMMARY:Paarturnier 2. Montag Abend
DESCRIPTION:
URL:https://aschaffenburger-bridge-club.de/event/paarturnier-2-montag-abend-neu/2026-09-14/
LOCATION:Aschaffenburger BridgeClub e.V.\, Jägerhof\, Darmstädtstr. 125\, Aschaffenburg\, 63741
END:VEVENT
BEGIN:VEVENT
DTSTART;TZID=Europe/Berlin:20260915T143000
DTEND;TZID=Europe/Berlin:20260915T143000
DTSTAMP:20260424T155500
CREATED:20230127T152835Z
LAST-MODIFIED:20231104T030120Z
UID:10001855-1789482600-1789482600@aschaffenburger-bridge-club.de
SUMMARY:Paarturnier Dienstag Mittag
DESCRIPTION:
URL:https://aschaffenburger-bridge-club.de/event/paarturnier-7/2026-09-15/
LOCATION:Aschaffenburger BridgeClub e.V.\, Jägerhof\, Darmstädtstr. 125\, Aschaffenburg\, 63741
END:VEVENT
BEGIN:VEVENT
DTSTART;TZID=Europe/Berlin:20260918T143000
DTEND;TZID=Europe/Berlin:20260918T143000
DTSTAMP:20260424T155500
CREATED:20260419T141356Z
LAST-MODIFIED:20260419T141357Z
UID:10001476-1789741800-1789741800@aschaffenburger-bridge-club.de
SUMMARY:Paarturnier Freitag Mittag
DESCRIPTION:
URL:https://aschaffenburger-bridge-club.de/event/paarturnier-10-2-2-2/2026-09-18/
LOCATION:Aschaffenburger BridgeClub e.V.\, Jägerhof\, Darmstädtstr. 125\, Aschaffenburg\, 63741
END:VEVENT
BEGIN:VEVENT
DTSTART;TZID=Europe/Berlin:20260921T183000
DTEND;TZID=Europe/Berlin:20260921T183000
DTSTAMP:20260424T155500
CREATED:20251120T090439Z
LAST-MODIFIED:20251120T090439Z
UID:10001998-1790015400-1790015400@aschaffenburger-bridge-club.de
SUMMARY:TEAM Montag Abend
DESCRIPTION:
URL:https://aschaffenburger-bridge-club.de/event/teamturnier-3-3/2026-09-21/
LOCATION:Aschaffenburger BridgeClub e.V.\, Jägerhof\, Darmstädtstr. 125\, Aschaffenburg\, 63741
END:VEVENT
BEGIN:VEVENT
DTSTART;TZID=Europe/Berlin:20260922T143000
DTEND;TZID=Europe/Berlin:20260922T143000
DTSTAMP:20260424T155500
CREATED:20230127T152855Z
LAST-MODIFIED:20231104T025734Z
UID:10001916-1790087400-1790087400@aschaffenburger-bridge-club.de
SUMMARY:Paarturnier Dienstag Mittag
DESCRIPTION:
URL:https://aschaffenburger-bridge-club.de/event/paarturnier-8/2026-09-22/
LOCATION:Aschaffenburger BridgeClub e.V.\, Jägerhof\, Darmstädtstr. 125\, Aschaffenburg\, 63741
END:VEVENT
BEGIN:VEVENT
DTSTART;TZID=Europe/Berlin:20260925T143000
DTEND;TZID=Europe/Berlin:20260925T143000
DTSTAMP:20260424T155500
CREATED:20260419T141356Z
LAST-MODIFIED:20260419T141357Z
UID:10001477-1790346600-1790346600@aschaffenburger-bridge-club.de
SUMMARY:Paarturnier Freitag Mittag
DESCRIPTION:
URL:https://aschaffenburger-bridge-club.de/event/paarturnier-10-2-2-2/2026-09-25/
LOCATION:Aschaffenburger BridgeClub e.V.\, Jägerhof\, Darmstädtstr. 125\, Aschaffenburg\, 63741
END:VEVENT
BEGIN:VEVENT
DTSTART;TZID=Europe/Berlin:20260928T183000
DTEND;TZID=Europe/Berlin:20260928T183000
DTSTAMP:20260424T155500
CREATED:20260406T201715Z
LAST-MODIFIED:20260406T202420Z
UID:10001712-1790620200-1790620200@aschaffenburger-bridge-club.de
SUMMARY:Paarturnier 4. Montag Abend
DESCRIPTION:
URL:https://aschaffenburger-bridge-club.de/event/paarturnier-4-3/2026-09-28/
LOCATION:Aschaffenburger BridgeClub e.V.\, Jägerhof\, Darmstädtstr. 125\, Aschaffenburg\, 63741
END:VEVENT
BEGIN:VEVENT
DTSTART;TZID=Europe/Berlin:20260929T143000
DTEND;TZID=Europe/Berlin:20260929T200000
DTSTAMP:20260424T155500
CREATED:20260406T203506Z
LAST-MODIFIED:20260406T203506Z
UID:10001948-1790692200-1790712000@aschaffenburger-bridge-club.de
SUMMARY:Paarturnier 5. Dienstag Mittag
DESCRIPTION:
URL:https://aschaffenburger-bridge-club.de/event/paarturnier-9-3-2/2026-09-29/
LOCATION:Aschaffenburger BridgeClub e.V.\, Jägerhof\, Darmstädtstr. 125\, Aschaffenburg\, 63741
END:VEVENT
END:VCALENDAR