BEGIN:VCALENDAR
VERSION:2.0
PRODID:-//Aschaffenburger BridgeClub e.V. - ECPv6.15.20//NONSGML v1.0//EN
CALSCALE:GREGORIAN
METHOD:PUBLISH
X-ORIGINAL-URL:https://aschaffenburger-bridge-club.de
X-WR-CALDESC:Veranstaltungen für Aschaffenburger BridgeClub e.V.
REFRESH-INTERVAL;VALUE=DURATION:PT1H
X-Robots-Tag:noindex
X-PUBLISHED-TTL:PT1H
BEGIN:VTIMEZONE
TZID:Europe/Berlin
BEGIN:DAYLIGHT
TZOFFSETFROM:+0100
TZOFFSETTO:+0200
TZNAME:CEST
DTSTART:20250330T010000
END:DAYLIGHT
BEGIN:STANDARD
TZOFFSETFROM:+0200
TZOFFSETTO:+0100
TZNAME:CET
DTSTART:20251026T010000
END:STANDARD
BEGIN:DAYLIGHT
TZOFFSETFROM:+0100
TZOFFSETTO:+0200
TZNAME:CEST
DTSTART:20260329T010000
END:DAYLIGHT
BEGIN:STANDARD
TZOFFSETFROM:+0200
TZOFFSETTO:+0100
TZNAME:CET
DTSTART:20261025T010000
END:STANDARD
BEGIN:DAYLIGHT
TZOFFSETFROM:+0100
TZOFFSETTO:+0200
TZNAME:CEST
DTSTART:20270328T010000
END:DAYLIGHT
BEGIN:STANDARD
TZOFFSETFROM:+0200
TZOFFSETTO:+0100
TZNAME:CET
DTSTART:20271031T010000
END:STANDARD
END:VTIMEZONE
BEGIN:VEVENT
DTSTART;TZID=Europe/Berlin:20260601T183000
DTEND;TZID=Europe/Berlin:20260601T183000
DTSTAMP:20260424T103000
CREATED:20230204T135315Z
LAST-MODIFIED:20231204T145631Z
UID:10001587-1780338600-1780338600@aschaffenburger-bridge-club.de
SUMMARY:Paarturnier 1. Montag Abend
DESCRIPTION:
URL:https://aschaffenburger-bridge-club.de/event/paarturnier-2-2/2026-06-01/
LOCATION:Aschaffenburger BridgeClub e.V.\, Jägerhof\, Darmstädtstr. 125\, Aschaffenburg\, 63741
END:VEVENT
BEGIN:VEVENT
DTSTART;TZID=Europe/Berlin:20260602T143000
DTEND;TZID=Europe/Berlin:20260602T170000
DTSTAMP:20260424T103000
CREATED:20231104T081040Z
LAST-MODIFIED:20240813T091014Z
UID:10002330-1780410600-1780419600@aschaffenburger-bridge-club.de
SUMMARY:TEAM Dienstag Mittag
DESCRIPTION:
URL:https://aschaffenburger-bridge-club.de/event/team-dienstag-mittag/2026-06-02/
LOCATION:Aschaffenburger BridgeClub e.V.\, Jägerhof\, Darmstädtstr. 125\, Aschaffenburg\, 63741
END:VEVENT
BEGIN:VEVENT
DTSTART;TZID=Europe/Berlin:20260605T143000
DTEND;TZID=Europe/Berlin:20260605T143000
DTSTAMP:20260424T103000
CREATED:20260419T141356Z
LAST-MODIFIED:20260419T141357Z
UID:10001461-1780669800-1780669800@aschaffenburger-bridge-club.de
SUMMARY:Paarturnier Freitag Mittag
DESCRIPTION:
URL:https://aschaffenburger-bridge-club.de/event/paarturnier-10-2-2-2/2026-06-05/
LOCATION:Aschaffenburger BridgeClub e.V.\, Jägerhof\, Darmstädtstr. 125\, Aschaffenburg\, 63741
END:VEVENT
BEGIN:VEVENT
DTSTART;TZID=Europe/Berlin:20260608T183000
DTEND;TZID=Europe/Berlin:20260608T210000
DTSTAMP:20260424T103000
CREATED:20260327T150919Z
LAST-MODIFIED:20260406T202108Z
UID:10002959-1780943400-1780952400@aschaffenburger-bridge-club.de
SUMMARY:Paarturnier 2. Montag Abend
DESCRIPTION:
URL:https://aschaffenburger-bridge-club.de/event/paarturnier-2-montag-abend-neu/2026-06-08/
LOCATION:Aschaffenburger BridgeClub e.V.\, Jägerhof\, Darmstädtstr. 125\, Aschaffenburg\, 63741
END:VEVENT
BEGIN:VEVENT
DTSTART;TZID=Europe/Berlin:20260609T143000
DTEND;TZID=Europe/Berlin:20260609T143000
DTSTAMP:20260424T103000
CREATED:20230127T152814Z
LAST-MODIFIED:20231104T025928Z
UID:10001791-1781015400-1781015400@aschaffenburger-bridge-club.de
SUMMARY:Paarturnier Dienstag Mittag
DESCRIPTION:
URL:https://aschaffenburger-bridge-club.de/event/paarturnier-6/2026-06-09/
LOCATION:Aschaffenburger BridgeClub e.V.\, Jägerhof\, Darmstädtstr. 125\, Aschaffenburg\, 63741
END:VEVENT
BEGIN:VEVENT
DTSTART;TZID=Europe/Berlin:20260612T143000
DTEND;TZID=Europe/Berlin:20260612T143000
DTSTAMP:20260424T103000
CREATED:20260419T141356Z
LAST-MODIFIED:20260419T141357Z
UID:10001462-1781274600-1781274600@aschaffenburger-bridge-club.de
SUMMARY:Paarturnier Freitag Mittag
DESCRIPTION:
URL:https://aschaffenburger-bridge-club.de/event/paarturnier-10-2-2-2/2026-06-12/
LOCATION:Aschaffenburger BridgeClub e.V.\, Jägerhof\, Darmstädtstr. 125\, Aschaffenburg\, 63741
END:VEVENT
BEGIN:VEVENT
DTSTART;TZID=Europe/Berlin:20260615T183000
DTEND;TZID=Europe/Berlin:20260615T183000
DTSTAMP:20260424T103000
CREATED:20251120T090439Z
LAST-MODIFIED:20251120T090439Z
UID:10001995-1781548200-1781548200@aschaffenburger-bridge-club.de
SUMMARY:TEAM Montag Abend
DESCRIPTION:
URL:https://aschaffenburger-bridge-club.de/event/teamturnier-3-3/2026-06-15/
LOCATION:Aschaffenburger BridgeClub e.V.\, Jägerhof\, Darmstädtstr. 125\, Aschaffenburg\, 63741
END:VEVENT
BEGIN:VEVENT
DTSTART;TZID=Europe/Berlin:20260616T143000
DTEND;TZID=Europe/Berlin:20260616T143000
DTSTAMP:20260424T103000
CREATED:20230127T152835Z
LAST-MODIFIED:20231104T030120Z
UID:10001852-1781620200-1781620200@aschaffenburger-bridge-club.de
SUMMARY:Paarturnier Dienstag Mittag
DESCRIPTION:
URL:https://aschaffenburger-bridge-club.de/event/paarturnier-7/2026-06-16/
LOCATION:Aschaffenburger BridgeClub e.V.\, Jägerhof\, Darmstädtstr. 125\, Aschaffenburg\, 63741
END:VEVENT
BEGIN:VEVENT
DTSTART;TZID=Europe/Berlin:20260619T143000
DTEND;TZID=Europe/Berlin:20260619T143000
DTSTAMP:20260424T103000
CREATED:20260419T141356Z
LAST-MODIFIED:20260419T141357Z
UID:10001463-1781879400-1781879400@aschaffenburger-bridge-club.de
SUMMARY:Paarturnier Freitag Mittag
DESCRIPTION:
URL:https://aschaffenburger-bridge-club.de/event/paarturnier-10-2-2-2/2026-06-19/
LOCATION:Aschaffenburger BridgeClub e.V.\, Jägerhof\, Darmstädtstr. 125\, Aschaffenburg\, 63741
END:VEVENT
BEGIN:VEVENT
DTSTART;TZID=Europe/Berlin:20260622T183000
DTEND;TZID=Europe/Berlin:20260622T183000
DTSTAMP:20260424T103000
CREATED:20260406T201715Z
LAST-MODIFIED:20260406T202420Z
UID:10001709-1782153000-1782153000@aschaffenburger-bridge-club.de
SUMMARY:Paarturnier 4. Montag Abend
DESCRIPTION:
URL:https://aschaffenburger-bridge-club.de/event/paarturnier-4-3/2026-06-22/
LOCATION:Aschaffenburger BridgeClub e.V.\, Jägerhof\, Darmstädtstr. 125\, Aschaffenburg\, 63741
END:VEVENT
BEGIN:VEVENT
DTSTART;TZID=Europe/Berlin:20260623T143000
DTEND;TZID=Europe/Berlin:20260623T143000
DTSTAMP:20260424T103000
CREATED:20230127T152855Z
LAST-MODIFIED:20231104T025734Z
UID:10001913-1782225000-1782225000@aschaffenburger-bridge-club.de
SUMMARY:Paarturnier Dienstag Mittag
DESCRIPTION:
URL:https://aschaffenburger-bridge-club.de/event/paarturnier-8/2026-06-23/
LOCATION:Aschaffenburger BridgeClub e.V.\, Jägerhof\, Darmstädtstr. 125\, Aschaffenburg\, 63741
END:VEVENT
BEGIN:VEVENT
DTSTART;TZID=Europe/Berlin:20260626T143000
DTEND;TZID=Europe/Berlin:20260626T143000
DTSTAMP:20260424T103000
CREATED:20260419T141356Z
LAST-MODIFIED:20260419T141357Z
UID:10001464-1782484200-1782484200@aschaffenburger-bridge-club.de
SUMMARY:Paarturnier Freitag Mittag
DESCRIPTION:
URL:https://aschaffenburger-bridge-club.de/event/paarturnier-10-2-2-2/2026-06-26/
LOCATION:Aschaffenburger BridgeClub e.V.\, Jägerhof\, Darmstädtstr. 125\, Aschaffenburg\, 63741
END:VEVENT
BEGIN:VEVENT
DTSTART;TZID=Europe/Berlin:20260629T183000
DTEND;TZID=Europe/Berlin:20260629T183000
DTSTAMP:20260424T103000
CREATED:20260406T054226Z
LAST-MODIFIED:20260406T202344Z
UID:10003116-1782757800-1782757800@aschaffenburger-bridge-club.de
SUMMARY:Paarturnier 5. Montag Abend
DESCRIPTION:
URL:https://aschaffenburger-bridge-club.de/event/paarturnier-5-3-2-2/2026-06-29/
LOCATION:Aschaffenburger BridgeClub e.V.\, Jägerhof\, Darmstädtstr. 125\, Aschaffenburg\, 63741
END:VEVENT
BEGIN:VEVENT
DTSTART;TZID=Europe/Berlin:20260630T143000
DTEND;TZID=Europe/Berlin:20260630T200000
DTSTAMP:20260424T103000
CREATED:20260406T203506Z
LAST-MODIFIED:20260406T203506Z
UID:10001947-1782829800-1782849600@aschaffenburger-bridge-club.de
SUMMARY:Paarturnier 5. Dienstag Mittag
DESCRIPTION:
URL:https://aschaffenburger-bridge-club.de/event/paarturnier-9-3-2/2026-06-30/
LOCATION:Aschaffenburger BridgeClub e.V.\, Jägerhof\, Darmstädtstr. 125\, Aschaffenburg\, 63741
END:VEVENT
END:VCALENDAR