BEGIN:VCALENDAR
VERSION:2.0
PRODID:-//Aschaffenburger BridgeClub e.V. - ECPv6.15.20//NONSGML v1.0//EN
CALSCALE:GREGORIAN
METHOD:PUBLISH
X-WR-CALNAME:Aschaffenburger BridgeClub e.V.
X-ORIGINAL-URL:https://aschaffenburger-bridge-club.de
X-WR-CALDESC:Veranstaltungen für Aschaffenburger BridgeClub e.V.
REFRESH-INTERVAL;VALUE=DURATION:PT1H
X-Robots-Tag:noindex
X-PUBLISHED-TTL:PT1H
BEGIN:VTIMEZONE
TZID:Europe/Berlin
BEGIN:DAYLIGHT
TZOFFSETFROM:+0100
TZOFFSETTO:+0200
TZNAME:CEST
DTSTART:20250330T010000
END:DAYLIGHT
BEGIN:STANDARD
TZOFFSETFROM:+0200
TZOFFSETTO:+0100
TZNAME:CET
DTSTART:20251026T010000
END:STANDARD
BEGIN:DAYLIGHT
TZOFFSETFROM:+0100
TZOFFSETTO:+0200
TZNAME:CEST
DTSTART:20260329T010000
END:DAYLIGHT
BEGIN:STANDARD
TZOFFSETFROM:+0200
TZOFFSETTO:+0100
TZNAME:CET
DTSTART:20261025T010000
END:STANDARD
BEGIN:DAYLIGHT
TZOFFSETFROM:+0100
TZOFFSETTO:+0200
TZNAME:CEST
DTSTART:20270328T010000
END:DAYLIGHT
BEGIN:STANDARD
TZOFFSETFROM:+0200
TZOFFSETTO:+0100
TZNAME:CET
DTSTART:20271031T010000
END:STANDARD
END:VTIMEZONE
BEGIN:VEVENT
DTSTART;TZID=Europe/Berlin:20260726T150000
DTEND;TZID=Europe/Berlin:20260726T235900
DTSTAMP:20260424T134721
CREATED:20260419T144757Z
LAST-MODIFIED:20260420T123530Z
UID:10003207-1785078000-1785110340@aschaffenburger-bridge-club.de
SUMMARY:Kuchenbuffet
DESCRIPTION:Trage euch für euren tollen Kuchen ein! Danke!
URL:https://aschaffenburger-bridge-club.de/event/kuchenbuffet/2026-07-26/
LOCATION:Aschaffenburger BridgeClub e.V.\, Jägerhof\, Darmstädtstr. 125\, Aschaffenburg\, 63741
ATTACH;FMTTYPE=image/jpeg:https://aschaffenburger-bridge-club.de/wp-content/uploads/2025/09/IMG_6928-scaled.jpg
END:VEVENT
BEGIN:VEVENT
DTSTART;TZID=Europe/Berlin:20260822T150000
DTEND;TZID=Europe/Berlin:20260822T170000
DTSTAMP:20260424T134721
CREATED:20260419T144757Z
LAST-MODIFIED:20260420T123530Z
UID:10003208-1787410800-1787418000@aschaffenburger-bridge-club.de
SUMMARY:Kuchenbuffet
DESCRIPTION:Trage euch für euren tollen Kuchen ein! Danke!
URL:https://aschaffenburger-bridge-club.de/event/kuchenbuffet/2026-08-22/
LOCATION:Aschaffenburger BridgeClub e.V.\, Jägerhof\, Darmstädtstr. 125\, Aschaffenburg\, 63741
ATTACH;FMTTYPE=image/jpeg:https://aschaffenburger-bridge-club.de/wp-content/uploads/2025/09/IMG_6928-scaled.jpg
END:VEVENT
END:VCALENDAR